BEGIN:VCALENDAR
VERSION:2.0
PRODID:-//ChamberMaster//Event Calendar 2.0//EN
METHOD:PUBLISH
X-PUBLISHED-TTL:P3D
REFRESH-INTERVAL:P3D
CALSCALE:GREGORIAN
BEGIN:VEVENT
DTSTART:20240119T150000Z
DTEND:20240216T210000Z
X-MICROSOFT-CDO-ALLDAYEVENT:FALSE
SUMMARY:Oliver Art Center FORM + FUNCTION
DESCRIPTION:FORM + FUNCTION\, an exploration of sculptural forms and functional fiber will open with a reception on Friday\, January 19 from 5:00 - 7:00 pm at the Oliver Art Center. The exhibition continues through February 16th. This exhibit is inspired by the design principles of Form and Function. "Form" will be represented by a 3D sculpture exhibit and "Function" will showcase functional fiber works. The exhibition will encompass the entire first floor of the Oliver Art Center with featured artists from around Michigan presenting 3D sculptural works and assemblages in wood\, ceramic\, metal and other materials in the Beck and Borwell galleries. A range of fiber and related functional work such as basketry\, quilts\, rugs\, paper goods and wearable art will be displayed in the Fisher Room and North and South Exhibit Halls. Additionally\, the galleries will include work created by artists in the community selected via an open call. An artist's talk and guided gallery tour will be scheduled during the exhibition. Visit OAC's website at www.oliverart.org for more information or phone 231-352-4151.
X-ALT-DESC;FMTTYPE=text/html:FORM + FUNCTION\, an exploration of sculptural forms and functional fiber will open with a reception on Friday\, January 19 from 5:00 - 7:00 pm at the Oliver Art Center. The exhibition continues through February 16th. This exhibit is inspired by the design principles of Form and Function. &quot\;Form&quot\; will be represented by a 3D sculpture exhibit and &quot\;Function&quot\; will showcase functional fiber works. The exhibition will encompass the entire first floor of the Oliver Art Center with featured artists from around Michigan presenting 3D sculptural works and assemblages in wood\, ceramic\, metal and other materials in the Beck and Borwell galleries. A range of fiber and related functional work such as basketry\, quilts\, rugs\, paper goods and wearable art will be displayed in the Fisher Room and North and South Exhibit Halls. Additionally\, the galleries will include work created by artists in the community selected via an open call. An artist&#39\;s talk and guided gallery tour will be scheduled during the exhibition. Visit OAC&#39\;s website at www.oliverart.org for more information or phone 231-352-4151.
LOCATION:Oliver Art Center\, 132 Coast Guard Rd.\, Frankfort
UID:e.1737.17163
SEQUENCE:3
DTSTAMP:20260422T192020Z
URL:https://business.benzie.org/events/details/oliver-art-center-form-function-17163
END:VEVENT

END:VCALENDAR
