BEGIN:VCALENDAR
VERSION:2.0
PRODID:-//ChamberMaster//Event Calendar 2.0//EN
METHOD:PUBLISH
X-PUBLISHED-TTL:P3D
REFRESH-INTERVAL:P3D
CALSCALE:GREGORIAN
BEGIN:VEVENT
DTSTART:20230131T170000Z
DTEND:20230131T180000Z
X-MICROSOFT-CDO-ALLDAYEVENT:FALSE
SUMMARY:BCD - District Readers Book Club
DESCRIPTION:Join the Benzie Conservation District over Zoom to discuss selected books November - March.\n\n\n\nNOVEMBER - Silent Spring by Rachel Carson (genre: revolutionary / environmental science / chemical industry)\n\nDECEMBER - Great Lakes for Sale by Dave Dempsey (genre: environmental policy / modern history / local waters)\n\nJANUARY - Lab Girl by Hope Jahren (genre: memoir / botany & geobiology / compelling)\n\nFEBRUARY - Wilder by Millie Kerr (genre: success stories / radical conservation / global wildlife)\n\nMARCH - The Treeline by Ben Rawlence (genre: inspirational / global forestry / climate change)
X-ALT-DESC;FMTTYPE=text/html:Join the Benzie Conservation District over Zoom to discuss selected books November - March.<br />\n<br />\nNOVEMBER - <u><strong>Silent Spring </strong></u>by Rachel Carson <em>(genre: revolutionary / environmental science / chemical industry)</em><br />\nDECEMBER - <u><strong>Great Lakes for Sale</strong></u> by Dave Dempsey<em> (genre: environmental policy / modern history / local waters)</em><br />\nJANUARY - <u><strong>Lab Girl</strong></u> by Hope Jahren<em> (genre: memoir / botany &amp\; geobiology / compelling)</em><br />\nFEBRUARY - <u><strong>Wilder</strong></u> by Millie Kerr <em>(genre: success stories / radical conservation / global wildlife)</em><br />\nMARCH - <u><strong>The Treeline</strong></u> by Ben Rawlence<em> (genre: inspirational / global forestry / climate change)</em><br />\n&nbsp\;
LOCATION:Virtual via Zoom
UID:e.1737.16430
SEQUENCE:3
DTSTAMP:20260423T173313Z
URL:https://business.benzie.org/events/details/bcd-district-readers-book-club-16430
END:VEVENT

END:VCALENDAR
