BEGIN:VCALENDAR
VERSION:2.0
PRODID:-//ChamberMaster//Event Calendar 2.0//EN
METHOD:PUBLISH
X-PUBLISHED-TTL:P3D
REFRESH-INTERVAL:P3D
CALSCALE:GREGORIAN
BEGIN:VEVENT
DTSTART:20241206T150000Z
DTEND:20250103T210000Z
X-MICROSOFT-CDO-ALLDAYEVENT:FALSE
SUMMARY:ARTventure: Oliver Art Center Annual Winter Member Exhibition
DESCRIPTION:The Oliver Art Center's annual Winter Member Exhibition\, ARTventure will open with a reception on Friday\, December 6th from 5:00   7:00 pm. The show will continue through January 3rd. Typically\, one of OAC's largest shows of the year\, this year's exhibit will showcase the work of more than 100 area artists\, all members of OAC. Paintings\, sculptures\, ceramics\, glass\, fiber\, photography\, wood and more will be on display. OAC's Winter Market will be open during the reception to allow visitors to shop its collection of locally made gifts for the holidays. The work of more than 50 local and regional artists and craftspeople is on display in the Winter Market. The Winter Market continues through December 31st. The Oliver Art Center is open Tuesday-Saturday from 10 a.m.-4:00 p.m.\, and Sunday from 12:00 p.m.   4:00 p.m. OAC will be closed on December 24th and 25th and January 1st.
X-ALT-DESC;FMTTYPE=text/html:The Oliver Art Center&rsquo\;s annual Winter Member Exhibition\, ARTventure will open with a reception on Friday\, December 6th from 5:00 &ndash\; 7:00 pm. The show will continue through January 3rd. Typically\, one of OAC&rsquo\;s largest shows of the year\, this year&rsquo\;s exhibit will showcase the work of more than 100 area artists\, all members of OAC. Paintings\, sculptures\, ceramics\, glass\, fiber\, photography\, wood and more will be on display. OAC&rsquo\;s Winter Market will be open during the reception to allow visitors to shop its collection of locally made gifts for the holidays. The work of more than 50 local and regional artists and craftspeople is on display in the Winter Market. The Winter Market continues through December 31st. The Oliver Art Center is open Tuesday-Saturday from 10 a.m.-4:00 p.m.\, and Sunday from 12:00 p.m. &ndash\; 4:00 p.m. OAC will be closed on December 24th and 25th and January 1st.
LOCATION:Oliver Art Center 132 Coast Guard St. Frankfort.
UID:e.1737.18090
SEQUENCE:3
DTSTAMP:20260419T120004Z
URL:https://business.benzie.org/events/details/artventure-oliver-art-center-annual-winter-member-exhibition-18090
END:VEVENT

END:VCALENDAR
