BEGIN:VCALENDAR
VERSION:2.0
PRODID:-//ChamberMaster//Event Calendar 2.0//EN
METHOD:PUBLISH
X-PUBLISHED-TTL:P3D
REFRESH-INTERVAL:P3D
CALSCALE:GREGORIAN
BEGIN:VEVENT
DTSTART:20250404T140000Z
DTEND:20250430T200000Z
X-MICROSOFT-CDO-ALLDAYEVENT:FALSE
SUMMARY:Annual Regional Student Art Exhibition
DESCRIPTION:The Elizabeth Lane Oliver Center for the Arts (OAC) will host its Annual Regional Student Art Exhibition from April 4th   April 30th. Hundreds of artworks in a wide variety of media from area elementary\, middle\, and high schools will be on display at the center located at 132 Coast Guard Rd. in Frankfort. Certificates of Excellence and awards\, including scholarships to University of Olivet\, and monetary awards from Blick Art Materials will be presented during the Opening Reception on Friday April 4th\, from 5:00 pm   7:00 pm. This exhibit and reception is made possible through sponsorship by Graceland Fruit and A&W of Frankfort.
X-ALT-DESC;FMTTYPE=text/html:The Elizabeth Lane Oliver Center for the Arts (OAC) will host its Annual Regional Student Art Exhibition from April 4th &ndash\; April 30th. Hundreds of artworks in a wide variety of media from area elementary\, middle\, and high schools will be on display at the center located at 132 Coast Guard Rd. in Frankfort. Certificates of Excellence and awards\, including scholarships to University of Olivet\, and monetary awards from Blick Art Materials will be presented during the Opening Reception on Friday April 4th\, from 5:00 pm &ndash\; 7:00 pm. This exhibit and reception is made possible through sponsorship by Graceland Fruit and A&amp\;W of Frankfort.
LOCATION:Oliver Art Center 132 Coast Guard St. Frankfort
UID:e.1737.18543
SEQUENCE:3
DTSTAMP:20260424T043813Z
URL:https://business.benzie.org/events/details/annual-regional-student-art-exhibition-18543
END:VEVENT

END:VCALENDAR
